BEGIN:VCALENDAR
VERSION:2.0
CALSCALE:GREGORIAN
PRODID:UnionActive
BEGIN:VEVENT
UID:3284087@teamsterslocal776.org
SUMMARY:Central PA Joint Area Freight Hearings
DESCRIPTION:Contact:  \nLink for more information: http://teamsterslocal776.org/index.cfm?zone=/unionactive/view_calendar.cfm&calendarID=3284087&thisdate=11/03/2010&useCalSection=main
LOCATION:To be determined
URL:http://teamsterslocal776.org/index.cfm?zone=/unionactive/view_calendar.cfm&calendarID=3284087&thisdate=11/03/2010&useCalSection=main
DTSTART:20101103T130000Z
DTEND:20101103T140000Z
DTSTAMP:20240304T135445
TRIGGER:-PT60M
END:VEVENT
END:VCALENDAR
