BEGIN:VCALENDAR
VERSION:2.0
CALSCALE:GREGORIAN
PRODID:UnionActive
BEGIN:VEVENT
UID:3284082@teamsterslocal776.org
SUMMARY:Harrisburg Joint Local Freight Hearings
DESCRIPTION:Contact:  \nLink for more information: http://teamsterslocal776.org/index.cfm?zone=/unionactive/view_calendar.cfm&calendarID=3284082&thisdate=07/07/2010&useCalSection=main
LOCATION:To be determined
URL:http://teamsterslocal776.org/index.cfm?zone=/unionactive/view_calendar.cfm&calendarID=3284082&thisdate=07/07/2010&useCalSection=main
DTSTART:20100707T130000Z
DTEND:20100707T140000Z
DTSTAMP:20240304T135355
TRIGGER:-PT60M
END:VEVENT
END:VCALENDAR
