BEGIN:VCALENDAR
VERSION:2.0
CALSCALE:GREGORIAN
PRODID:UnionActive
BEGIN:VEVENT
UID:3284078@teamsterslocal776.org
SUMMARY:Harrisburg Joint Local Freight Hearings
DESCRIPTION:Contact:  \nLink for more information: http://teamsterslocal776.org/index.cfm?zone=/unionactive/view_calendar.cfm&calendarID=3284078&thisdate=03/03/2010&useCalSection=main
LOCATION:To be determined
URL:http://teamsterslocal776.org/index.cfm?zone=/unionactive/view_calendar.cfm&calendarID=3284078&thisdate=03/03/2010&useCalSection=main
DTSTART:20100303T140000Z
DTEND:20100303T150000Z
DTSTAMP:20240304T135446
TRIGGER:-PT60M
END:VEVENT
END:VCALENDAR
