BEGIN:VCALENDAR
VERSION:2.0
CALSCALE:GREGORIAN
PRODID:UnionActive
BEGIN:VEVENT
UID:3283827@teamsterslocal776.org
SUMMARY:UPS Freight Eastern Region
DESCRIPTION:Contact:  \nLink for more information: http://teamsterslocal776.org/index.cfm?zone=/unionactive/view_calendar.cfm&calendarID=3283827&thisdate=05/03/2010&useCalSection=main
LOCATION:To be determined
URL:http://teamsterslocal776.org/index.cfm?zone=/unionactive/view_calendar.cfm&calendarID=3283827&thisdate=05/03/2010&useCalSection=main
DTSTART:20100503T120000Z
DTEND:20100503T130000Z
DTSTAMP:20240304T135354
TRIGGER:-PT60M
END:VEVENT
END:VCALENDAR
