BEGIN:VCALENDAR
VERSION:2.0
CALSCALE:GREGORIAN
PRODID:UnionActive
BEGIN:VEVENT
UID:3283826@teamsterslocal776.org
SUMMARY:UPS Freight Eastern Region
DESCRIPTION:Contact:  \nLink for more information: http://teamsterslocal776.org/index.cfm?zone=/unionactive/view_calendar.cfm&calendarID=3283826&thisdate=03/15/2010&useCalSection=main
LOCATION:To be determined
URL:http://teamsterslocal776.org/index.cfm?zone=/unionactive/view_calendar.cfm&calendarID=3283826&thisdate=03/15/2010&useCalSection=main
DTSTART:20100315T130000Z
DTEND:20100317T140000Z
DTSTAMP:20240304T135354
TRIGGER:-PT60M
END:VEVENT
END:VCALENDAR
