BEGIN:VCALENDAR
VERSION:2.0
CALSCALE:GREGORIAN
PRODID:UnionActive
BEGIN:VEVENT
UID:3283824@teamsterslocal776.org
SUMMARY:UPS/UPS Freight National Hearings
DESCRIPTION:Contact:  \nLink for more information: http://teamsterslocal776.org/index.cfm?zone=/unionactive/view_calendar.cfm&calendarID=3283824&thisdate=06/07/2010&useCalSection=main
LOCATION:To be determined
URL:http://teamsterslocal776.org/index.cfm?zone=/unionactive/view_calendar.cfm&calendarID=3283824&thisdate=06/07/2010&useCalSection=main
DTSTART:20100607T130000Z
DTEND:20100611T140000Z
DTSTAMP:20240304T135404
TRIGGER:-PT60M
END:VEVENT
END:VCALENDAR
