BEGIN:VCALENDAR
VERSION:2.0
CALSCALE:GREGORIAN
PRODID:UnionActive
BEGIN:VEVENT
UID:3283822@teamsterslocal776.org
SUMMARY:UPS Central PA Hearings
DESCRIPTION:Contact:  \nLink for more information: http://teamsterslocal776.org/index.cfm?zone=/unionactive/view_calendar.cfm&calendarID=3283822&thisdate=12/02/2010&useCalSection=main
LOCATION:To be determined
URL:http://teamsterslocal776.org/index.cfm?zone=/unionactive/view_calendar.cfm&calendarID=3283822&thisdate=12/02/2010&useCalSection=main
DTSTART:20101202T140000Z
DTEND:20101202T150000Z
DTSTAMP:20240304T135354
TRIGGER:-PT60M
END:VEVENT
END:VCALENDAR
