BEGIN:VCALENDAR
VERSION:2.0
CALSCALE:GREGORIAN
PRODID:UnionActive
BEGIN:VEVENT
UID:3283784@teamsterslocal776.org
SUMMARY:Stewards Meeting
DESCRIPTION:Contact:  \nLink for more information: http://teamsterslocal776.org/index.cfm?zone=/unionactive/view_calendar.cfm&calendarID=3283784&thisdate=01/08/2011&useCalSection=main
LOCATION:Harrisburg Union Hall
URL:http://teamsterslocal776.org/index.cfm?zone=/unionactive/view_calendar.cfm&calendarID=3283784&thisdate=01/08/2011&useCalSection=main
DTSTART:20110108T150000Z
DTEND:20110108T160000Z
DTSTAMP:20240304T135301
TRIGGER:-PT60M
END:VEVENT
END:VCALENDAR
