BEGIN:VCALENDAR
VERSION:2.0
CALSCALE:GREGORIAN
PRODID:UnionActive
BEGIN:VEVENT
UID:3276459@teamsterslocal776.org
SUMMARY:Teamsters Local Union Picnic
DESCRIPTION:Contact:  \nLink for more information: http://teamsterslocal776.org/index.cfm?zone=/unionactive/view_calendar.cfm&calendarID=3276459&thisdate=06/06/2010&useCalSection=main
LOCATION:Mechanicsburg Picnic grounds
URL:http://teamsterslocal776.org/index.cfm?zone=/unionactive/view_calendar.cfm&calendarID=3276459&thisdate=06/06/2010&useCalSection=main
DTSTART:20100606T120000Z
DTEND:20100606T130000Z
DTSTAMP:20240304T135405
TRIGGER:-PT60M
END:VEVENT
END:VCALENDAR
