BEGIN:VCALENDAR
VERSION:2.0
CALSCALE:GREGORIAN
PRODID:UnionActive
BEGIN:VEVENT
UID:3276458@teamsterslocal776.org
SUMMARY:D.R.I.V.E. dinner /dance
DESCRIPTION:Contact:  \nLink for more information: http://teamsterslocal776.org/index.cfm?zone=/unionactive/view_calendar.cfm&calendarID=3276458&thisdate=04/03/2010&useCalSection=main
LOCATION:To be determined
URL:http://teamsterslocal776.org/index.cfm?zone=/unionactive/view_calendar.cfm&calendarID=3276458&thisdate=04/03/2010&useCalSection=main
DTSTART:20100403T120000Z
DTEND:20100403T130000Z
DTSTAMP:20240304T135356
TRIGGER:-PT60M
END:VEVENT
END:VCALENDAR
