BEGIN:VCALENDAR
VERSION:2.0
CALSCALE:GREGORIAN
PRODID:UnionActive
BEGIN:VEVENT
UID:3276454@teamsterslocal776.org
SUMMARY:Stewards meeting
DESCRIPTION:Contact:  \nLink for more information: http://teamsterslocal776.org/index.cfm?zone=/unionactive/view_calendar.cfm&calendarID=3276454&thisdate=03/13/2010&useCalSection=main
LOCATION:Harrisburg Union Hall
URL:http://teamsterslocal776.org/index.cfm?zone=/unionactive/view_calendar.cfm&calendarID=3276454&thisdate=03/13/2010&useCalSection=main
DTSTART:20100313T150000Z
DTEND:20100313T160000Z
DTSTAMP:20240304T135405
TRIGGER:-PT60M
END:VEVENT
END:VCALENDAR
