BEGIN:VCALENDAR
VERSION:2.0
CALSCALE:GREGORIAN
PRODID:UnionActive
BEGIN:VEVENT
UID:3147576@teamsterslocal776.org
SUMMARY:Harrisburg Retirees Monthly Meeting
DESCRIPTION:Contact:  \nLink for more information: http://teamsterslocal776.org/index.cfm?zone=/unionactive/view_calendar.cfm&calendarID=3147576&thisdate=01/16/2010&useCalSection=main
LOCATION:Harrisburg Union Hall
URL:http://teamsterslocal776.org/index.cfm?zone=/unionactive/view_calendar.cfm&calendarID=3147576&thisdate=01/16/2010&useCalSection=main
DTSTART:20100116T150000Z
DTEND:20100116T160000Z
DTSTAMP:20240304T135353
TRIGGER:-PT60M
END:VEVENT
END:VCALENDAR
