BEGIN:VCALENDAR
VERSION:2.0
CALSCALE:GREGORIAN
PRODID:UnionActive
BEGIN:VEVENT
UID:3147575@teamsterslocal776.org
SUMMARY:York Retirees Monthly Meeting
DESCRIPTION:Contact:  \nLink for more information: http://teamsterslocal776.org/index.cfm?zone=/unionactive/view_calendar.cfm&calendarID=3147575&thisdate=01/13/2010&useCalSection=main
LOCATION:York Union Hall
URL:http://teamsterslocal776.org/index.cfm?zone=/unionactive/view_calendar.cfm&calendarID=3147575&thisdate=01/13/2010&useCalSection=main
DTSTART:20100113T190000Z
DTEND:20100113T200000Z
DTSTAMP:20240304T135403
TRIGGER:-PT60M
END:VEVENT
END:VCALENDAR
