BEGIN:VCALENDAR
VERSION:2.0
CALSCALE:GREGORIAN
PRODID:UnionActive
BEGIN:VEVENT
UID:3068211@teamsterslocal776.org
SUMMARY:Christmas Holiday Office closed
DESCRIPTION:Contact:  \nLink for more information: http://teamsterslocal776.org/index.cfm?zone=/unionactive/view_calendar.cfm&calendarID=3068211&thisdate=12/25/2009&useCalSection=main
LOCATION:
URL:http://teamsterslocal776.org/index.cfm?zone=/unionactive/view_calendar.cfm&calendarID=3068211&thisdate=12/25/2009&useCalSection=main
DTSTART:20091225T130000Z
DTEND:20091225T140000Z
DTSTAMP:20240304T135447
TRIGGER:-PT60M
END:VEVENT
END:VCALENDAR
