BEGIN:VCALENDAR
VERSION:2.0
CALSCALE:GREGORIAN
PRODID:UnionActive
BEGIN:VEVENT
UID:3068208@teamsterslocal776.org
SUMMARY:December Monthly Mtg.
DESCRIPTION:Contact:  \nLink for more information: http://teamsterslocal776.org/index.cfm?zone=/unionactive/view_calendar.cfm&calendarID=3068208&thisdate=12/13/2009&useCalSection=main
LOCATION:Local 776 Union Hall Harrisburg, PA 
URL:http://teamsterslocal776.org/index.cfm?zone=/unionactive/view_calendar.cfm&calendarID=3068208&thisdate=12/13/2009&useCalSection=main
DTSTART:20091213T150000Z
DTEND:20091213T160000Z
DTSTAMP:20240304T135446
TRIGGER:-PT60M
END:VEVENT
END:VCALENDAR
