BEGIN:VCALENDAR
VERSION:2.0
CALSCALE:GREGORIAN
PRODID:UnionActive
BEGIN:VEVENT
UID:12694616@teamsterslocal776.org
SUMMARY:UPS Central PA Grievance Panel
DESCRIPTION:Contact:  \nLink for more information: http://teamsterslocal776.org/index.cfm?zone=/unionactive/view_calendar.cfm&calendarID=12694616&thisdate=05/06/2024&useCalSection=main
LOCATION:
URL:http://teamsterslocal776.org/index.cfm?zone=/unionactive/view_calendar.cfm&calendarID=12694616&thisdate=05/06/2024&useCalSection=main
DTSTART:20240506T130000Z
DTEND:20240508T210000Z
DTSTAMP:20240304T132410
TRIGGER:-PT60M
END:VEVENT
END:VCALENDAR
