BEGIN:VCALENDAR
VERSION:2.0
CALSCALE:GREGORIAN
PRODID:UnionActive
BEGIN:VEVENT
UID:12694613@teamsterslocal776.org
SUMMARY:Eastern region TForce Freight Committee
DESCRIPTION:Contact:  \nLink for more information: http://teamsterslocal776.org/index.cfm?zone=/unionactive/view_calendar.cfm&calendarID=12694613&thisdate=08/04/2024&useCalSection=main
LOCATION:
URL:http://teamsterslocal776.org/index.cfm?zone=/unionactive/view_calendar.cfm&calendarID=12694613&thisdate=08/04/2024&useCalSection=main
DTSTART:20240804T130000Z
DTEND:20240806T210000Z
DTSTAMP:20240304T132714
TRIGGER:-PT60M
END:VEVENT
END:VCALENDAR
