BEGIN:VCALENDAR
VERSION:2.0
CALSCALE:GREGORIAN
PRODID:UnionActive
BEGIN:VEVENT
UID:12694611@teamsterslocal776.org
SUMMARY:Eastern region TForce Freight Committee
DESCRIPTION:Contact:  \nLink for more information: http://teamsterslocal776.org/index.cfm?zone=/unionactive/view_calendar.cfm&calendarID=12694611&thisdate=02/26/2024&useCalSection=main
LOCATION:
URL:http://teamsterslocal776.org/index.cfm?zone=/unionactive/view_calendar.cfm&calendarID=12694611&thisdate=02/26/2024&useCalSection=main
DTSTART:20240226T140000Z
DTEND:20240228T220000Z
DTSTAMP:20240304T131804
TRIGGER:-PT60M
END:VEVENT
END:VCALENDAR
