BEGIN:VCALENDAR
VERSION:2.0
CALSCALE:GREGORIAN
PRODID:UnionActive
BEGIN:VEVENT
UID:12694609@teamsterslocal776.org
SUMMARY:Eastern Region ABF Area and Region Committee
DESCRIPTION:Contact:  \nLink for more information: http://teamsterslocal776.org/index.cfm?zone=/unionactive/view_calendar.cfm&calendarID=12694609&thisdate=07/29/2024&useCalSection=main
LOCATION:
URL:http://teamsterslocal776.org/index.cfm?zone=/unionactive/view_calendar.cfm&calendarID=12694609&thisdate=07/29/2024&useCalSection=main
DTSTART:20240729T130000Z
DTEND:20240731T210000Z
DTSTAMP:20240304T132412
TRIGGER:-PT60M
END:VEVENT
END:VCALENDAR
