BEGIN:VCALENDAR
VERSION:2.0
CALSCALE:GREGORIAN
PRODID:UnionActive
BEGIN:VEVENT
UID:12694608@teamsterslocal776.org
SUMMARY:Eastern Region ABF Area and Region Committee
DESCRIPTION:Contact:  \nLink for more information: http://teamsterslocal776.org/index.cfm?zone=/unionactive/view_calendar.cfm&calendarID=12694608&thisdate=04/29/2024&useCalSection=main
LOCATION:
URL:http://teamsterslocal776.org/index.cfm?zone=/unionactive/view_calendar.cfm&calendarID=12694608&thisdate=04/29/2024&useCalSection=main
DTSTART:20240429T130000Z
DTEND:20240501T210000Z
DTSTAMP:20240304T132013
TRIGGER:-PT60M
END:VEVENT
END:VCALENDAR
