BEGIN:VCALENDAR
VERSION:2.0
CALSCALE:GREGORIAN
PRODID:UnionActive
BEGIN:VEVENT
UID:12694607@teamsterslocal776.org
SUMMARY:Eastern Region ABF Area and Region Committee
DESCRIPTION:Contact:  \nLink for more information: http://teamsterslocal776.org/index.cfm?zone=/unionactive/view_calendar.cfm&calendarID=12694607&thisdate=02/19/2024&useCalSection=main
LOCATION:
URL:http://teamsterslocal776.org/index.cfm?zone=/unionactive/view_calendar.cfm&calendarID=12694607&thisdate=02/19/2024&useCalSection=main
DTSTART:20240219T140000Z
DTEND:20240221T220000Z
DTSTAMP:20240304T131805
TRIGGER:-PT60M
END:VEVENT
END:VCALENDAR
