BEGIN:VCALENDAR
VERSION:2.0
CALSCALE:GREGORIAN
PRODID:UnionActive
BEGIN:VEVENT
UID:12642592@teamsterslocal776.org
SUMMARY:Freight National Grievance Committee
DESCRIPTION:Contact:  \nLink for more information: http://teamsterslocal776.org/index.cfm?zone=/unionactive/view_calendar.cfm&calendarID=12642592&thisdate=05/22/2024&useCalSection=main
LOCATION:
URL:http://teamsterslocal776.org/index.cfm?zone=/unionactive/view_calendar.cfm&calendarID=12642592&thisdate=05/22/2024&useCalSection=main
DTSTART:20240522T130000Z
DTEND:20240523T210000Z
DTSTAMP:20240304T132357
TRIGGER:-PT60M
END:VEVENT
END:VCALENDAR
