BEGIN:VCALENDAR
VERSION:2.0
CALSCALE:GREGORIAN
PRODID:UnionActive
BEGIN:VEVENT
UID:12642591@teamsterslocal776.org
SUMMARY:Freight National Grievance Committee
DESCRIPTION:Contact:  \nLink for more information: http://teamsterslocal776.org/index.cfm?zone=/unionactive/view_calendar.cfm&calendarID=12642591&thisdate=02/07/2024&useCalSection=main
LOCATION:
URL:http://teamsterslocal776.org/index.cfm?zone=/unionactive/view_calendar.cfm&calendarID=12642591&thisdate=02/07/2024&useCalSection=main
DTSTART:20240207T140000Z
DTEND:20240208T220000Z
DTSTAMP:20240304T131804
TRIGGER:-PT60M
END:VEVENT
END:VCALENDAR
