BEGIN:VCALENDAR
VERSION:2.0
CALSCALE:GREGORIAN
PRODID:UnionActive
BEGIN:VEVENT
UID:12606653@teamsterslocal776.org
SUMMARY:Local 776 Golf Tournament
DESCRIPTION:Contact:  \nLink for more information: http://teamsterslocal776.org/index.cfm?zone=/unionactive/view_calendar.cfm&calendarID=12606653&thisdate=08/04/2024&useCalSection=main
LOCATION:Eagles Crossing Golf Course
URL:http://teamsterslocal776.org/index.cfm?zone=/unionactive/view_calendar.cfm&calendarID=12606653&thisdate=08/04/2024&useCalSection=main
DTSTART:20240804T110000Z
DTEND:20240804T203000Z
DTSTAMP:20240304T132411
TRIGGER:-PT60M
END:VEVENT
END:VCALENDAR
