BEGIN:VCALENDAR
VERSION:2.0
CALSCALE:GREGORIAN
PRODID:UnionActive
BEGIN:VEVENT
UID:12606651@teamsterslocal776.org
SUMMARY:Monthly Membership Meeting
DESCRIPTION:Contact:  \nLink for more information: http://teamsterslocal776.org/index.cfm?zone=/unionactive/view_calendar.cfm&calendarID=12606651&thisdate=12/08/2024&useCalSection=main
LOCATION:Camp Hill Union Hall
URL:http://teamsterslocal776.org/index.cfm?zone=/unionactive/view_calendar.cfm&calendarID=12606651&thisdate=12/08/2024&useCalSection=main
DTSTART:20241208T150000Z
DTEND:20241208T170000Z
DTSTAMP:20240304T132411
TRIGGER:-PT60M
END:VEVENT
END:VCALENDAR
