BEGIN:VCALENDAR
VERSION:2.0
CALSCALE:GREGORIAN
PRODID:UnionActive
BEGIN:VEVENT
UID:12606650@teamsterslocal776.org
SUMMARY:Monthly Membership Meeting
DESCRIPTION:Contact:  \nLink for more information: http://teamsterslocal776.org/index.cfm?zone=/unionactive/view_calendar.cfm&calendarID=12606650&thisdate=11/10/2024&useCalSection=main
LOCATION:Camp Hill Union Hall
URL:http://teamsterslocal776.org/index.cfm?zone=/unionactive/view_calendar.cfm&calendarID=12606650&thisdate=11/10/2024&useCalSection=main
DTSTART:20241110T150000Z
DTEND:20241110T170000Z
DTSTAMP:20240304T132355
TRIGGER:-PT60M
END:VEVENT
END:VCALENDAR
