BEGIN:VCALENDAR
VERSION:2.0
CALSCALE:GREGORIAN
PRODID:UnionActive
BEGIN:VEVENT
UID:12606649@teamsterslocal776.org
SUMMARY:Stewards Meeting
DESCRIPTION:Contact:  \nLink for more information: http://teamsterslocal776.org/index.cfm?zone=/unionactive/view_calendar.cfm&calendarID=12606649&thisdate=11/09/2024&useCalSection=main
LOCATION:Camp Hill Union Hall
URL:http://teamsterslocal776.org/index.cfm?zone=/unionactive/view_calendar.cfm&calendarID=12606649&thisdate=11/09/2024&useCalSection=main
DTSTART:20241109T150000Z
DTEND:20241109T170000Z
DTSTAMP:20240304T132409
TRIGGER:-PT60M
END:VEVENT
END:VCALENDAR
