BEGIN:VCALENDAR
VERSION:2.0
CALSCALE:GREGORIAN
PRODID:UnionActive
BEGIN:VEVENT
UID:12606648@teamsterslocal776.org
SUMMARY:Monthly Membership Meeting
DESCRIPTION:Contact:  \nLink for more information: http://teamsterslocal776.org/index.cfm?zone=/unionactive/view_calendar.cfm&calendarID=12606648&thisdate=10/13/2024&useCalSection=main
LOCATION:Camp Hill Union Hall
URL:http://teamsterslocal776.org/index.cfm?zone=/unionactive/view_calendar.cfm&calendarID=12606648&thisdate=10/13/2024&useCalSection=main
DTSTART:20241013T140000Z
DTEND:20241013T160000Z
DTSTAMP:20240304T132356
TRIGGER:-PT60M
END:VEVENT
END:VCALENDAR
