BEGIN:VCALENDAR
VERSION:2.0
CALSCALE:GREGORIAN
PRODID:UnionActive
BEGIN:VEVENT
UID:12606643@teamsterslocal776.org
SUMMARY:Monthly Membership Meeting
DESCRIPTION:Contact:  \nLink for more information: http://teamsterslocal776.org/index.cfm?zone=/unionactive/view_calendar.cfm&calendarID=12606643&thisdate=04/14/2024&useCalSection=main
LOCATION:Camp Hill Union Hall
URL:http://teamsterslocal776.org/index.cfm?zone=/unionactive/view_calendar.cfm&calendarID=12606643&thisdate=04/14/2024&useCalSection=main
DTSTART:20240414T120000Z
DTEND:20240414T160000Z
DTSTAMP:20240304T132013
TRIGGER:-PT60M
END:VEVENT
END:VCALENDAR
