BEGIN:VCALENDAR
VERSION:2.0
CALSCALE:GREGORIAN
PRODID:UnionActive
BEGIN:VEVENT
UID:12604638@teamsterslocal776.org
SUMMARY:Stewards Meeting
DESCRIPTION:Contact:  \nLink for more information: http://teamsterslocal776.org/index.cfm?zone=/unionactive/view_calendar.cfm&calendarID=12604638&thisdate=01/13/2024&useCalSection=main
LOCATION:Camp Hill Union Hall
URL:http://teamsterslocal776.org/index.cfm?zone=/unionactive/view_calendar.cfm&calendarID=12604638&thisdate=01/13/2024&useCalSection=main
DTSTART:20240113T150000Z
DTEND:20240113T160000Z
DTSTAMP:20240304T132356
TRIGGER:-PT60M
END:VEVENT
END:VCALENDAR
