BEGIN:VCALENDAR
VERSION:2.0
CALSCALE:GREGORIAN
PRODID:UnionActive
BEGIN:VEVENT
UID:12368574@teamsterslocal776.org
SUMMARY:UPS Central PA Grievance Panel
DESCRIPTION:Contact:  \nLink for more information: http://teamsterslocal776.org/index.cfm?zone=/unionactive/view_calendar.cfm&calendarID=12368574&thisdate=04/27/2023&useCalSection=main
LOCATION:
URL:http://teamsterslocal776.org/index.cfm?zone=/unionactive/view_calendar.cfm&calendarID=12368574&thisdate=04/27/2023&useCalSection=main
DTSTART:20230427T130000Z
DTEND:20230427T210000Z
DTSTAMP:20240304T132719
TRIGGER:-PT60M
END:VEVENT
END:VCALENDAR
