BEGIN:VCALENDAR
VERSION:2.0
CALSCALE:GREGORIAN
PRODID:UnionActive
BEGIN:VEVENT
UID:12368475@teamsterslocal776.org
SUMMARY:UPS National Grievance Panel Meeting
DESCRIPTION:Contact:  \nLink for more information: http://teamsterslocal776.org/index.cfm?zone=/unionactive/view_calendar.cfm&calendarID=12368475&thisdate=06/04/2023&useCalSection=main
LOCATION:
URL:http://teamsterslocal776.org/index.cfm?zone=/unionactive/view_calendar.cfm&calendarID=12368475&thisdate=06/04/2023&useCalSection=main
DTSTART:20230604T130000Z
DTEND:20230609T210000Z
DTSTAMP:20240304T132720
TRIGGER:-PT60M
END:VEVENT
END:VCALENDAR
