BEGIN:VCALENDAR
VERSION:2.0
CALSCALE:GREGORIAN
PRODID:UnionActive
BEGIN:VEVENT
UID:12368474@teamsterslocal776.org
SUMMARY:UPS National Grievance Panel Meeting
DESCRIPTION:Contact:  \nLink for more information: http://teamsterslocal776.org/index.cfm?zone=/unionactive/view_calendar.cfm&calendarID=12368474&thisdate=03/05/2023&useCalSection=main
LOCATION:
URL:http://teamsterslocal776.org/index.cfm?zone=/unionactive/view_calendar.cfm&calendarID=12368474&thisdate=03/05/2023&useCalSection=main
DTSTART:20230305T140000Z
DTEND:20230310T220000Z
DTSTAMP:20240304T132719
TRIGGER:-PT60M
END:VEVENT
END:VCALENDAR
