BEGIN:VCALENDAR
VERSION:2.0
CALSCALE:GREGORIAN
PRODID:UnionActive
BEGIN:VEVENT
UID:12368349@teamsterslocal776.org
SUMMARY:Eastern Region Joint Area Committee Meeting
DESCRIPTION:Contact:  \nLink for more information: http://teamsterslocal776.org/index.cfm?zone=/unionactive/view_calendar.cfm&calendarID=12368349&thisdate=04/17/2023&useCalSection=main
LOCATION:
URL:http://teamsterslocal776.org/index.cfm?zone=/unionactive/view_calendar.cfm&calendarID=12368349&thisdate=04/17/2023&useCalSection=main
DTSTART:20230417T130000Z
DTEND:20230420T210000Z
DTSTAMP:20240304T132717
TRIGGER:-PT60M
END:VEVENT
END:VCALENDAR
