BEGIN:VCALENDAR
VERSION:2.0
CALSCALE:GREGORIAN
PRODID:UnionActive
BEGIN:VEVENT
UID:12368337@teamsterslocal776.org
SUMMARY:Childrens' Christmas Party
DESCRIPTION:Contact:  \nLink for more information: http://teamsterslocal776.org/index.cfm?zone=/unionactive/view_calendar.cfm&calendarID=12368337&thisdate=12/09/2023&useCalSection=main
LOCATION:Harrisburg Union Hall
URL:http://teamsterslocal776.org/index.cfm?zone=/unionactive/view_calendar.cfm&calendarID=12368337&thisdate=12/09/2023&useCalSection=main
DTSTART:20231209T153000Z
DTEND:20231209T180000Z
DTSTAMP:20240304T132715
TRIGGER:-PT60M
END:VEVENT
END:VCALENDAR
