BEGIN:VCALENDAR
VERSION:2.0
CALSCALE:GREGORIAN
PRODID:UnionActive
BEGIN:VEVENT
UID:12368335@teamsterslocal776.org
SUMMARY:Local 776 Family Picnic
DESCRIPTION:Contact:  \nLink for more information: http://teamsterslocal776.org/index.cfm?zone=/unionactive/view_calendar.cfm&calendarID=12368335&thisdate=06/11/2023&useCalSection=main
LOCATION:Knoebels Amusement Park

URL:http://teamsterslocal776.org/index.cfm?zone=/unionactive/view_calendar.cfm&calendarID=12368335&thisdate=06/11/2023&useCalSection=main
DTSTART:20230611T150000Z
DTEND:20230611T190000Z
DTSTAMP:20240304T132717
TRIGGER:-PT60M
END:VEVENT
END:VCALENDAR
