BEGIN:VCALENDAR
VERSION:2.0
CALSCALE:GREGORIAN
PRODID:UnionActive
BEGIN:VEVENT
UID:12368330@teamsterslocal776.org
SUMMARY:Monthly Membership Meeting
DESCRIPTION:Contact:  \nLink for more information: http://teamsterslocal776.org/index.cfm?zone=/unionactive/view_calendar.cfm&calendarID=12368330&thisdate=10/08/2023&useCalSection=main
LOCATION:
URL:http://teamsterslocal776.org/index.cfm?zone=/unionactive/view_calendar.cfm&calendarID=12368330&thisdate=10/08/2023&useCalSection=main
DTSTART:20231008T140000Z
DTEND:20231008T160000Z
DTSTAMP:20240304T132715
TRIGGER:-PT60M
END:VEVENT
END:VCALENDAR
