BEGIN:VCALENDAR
VERSION:2.0
CALSCALE:GREGORIAN
PRODID:UnionActive
BEGIN:VEVENT
UID:12368328@teamsterslocal776.org
SUMMARY:Stewards Meeting
DESCRIPTION:Contact:  \nLink for more information: http://teamsterslocal776.org/index.cfm?zone=/unionactive/view_calendar.cfm&calendarID=12368328&thisdate=09/09/2023&useCalSection=main
LOCATION:Harrisburg Union Hall
URL:http://teamsterslocal776.org/index.cfm?zone=/unionactive/view_calendar.cfm&calendarID=12368328&thisdate=09/09/2023&useCalSection=main
DTSTART:20230909T140000Z
DTEND:20230909T160000Z
DTSTAMP:20240304T132718
TRIGGER:-PT60M
END:VEVENT
END:VCALENDAR
