BEGIN:VCALENDAR
VERSION:2.0
CALSCALE:GREGORIAN
PRODID:UnionActive
BEGIN:VEVENT
UID:12043354@teamsterslocal776.org
SUMMARY:TForce Freight Eastern Region Grievance Committee Panel
DESCRIPTION:Contact:  \nLink for more information: http://teamsterslocal776.org/index.cfm?zone=/unionactive/view_calendar.cfm&calendarID=12043354&thisdate=08/15/2022&useCalSection=main
LOCATION:
URL:http://teamsterslocal776.org/index.cfm?zone=/unionactive/view_calendar.cfm&calendarID=12043354&thisdate=08/15/2022&useCalSection=main
DTSTART:20220815T130000Z
DTEND:20220819T210000Z
DTSTAMP:20240304T133148
TRIGGER:-PT60M
END:VEVENT
END:VCALENDAR
