BEGIN:VCALENDAR
VERSION:2.0
CALSCALE:GREGORIAN
PRODID:UnionActive
BEGIN:VEVENT
UID:12024529@teamsterslocal776.org
SUMMARY:Membership Picnic
DESCRIPTION:Contact:  \nLink for more information: http://teamsterslocal776.org/index.cfm?zone=/unionactive/view_calendar.cfm&calendarID=12024529&thisdate=06/12/2022&useCalSection=main
LOCATION:
URL:http://teamsterslocal776.org/index.cfm?zone=/unionactive/view_calendar.cfm&calendarID=12024529&thisdate=06/12/2022&useCalSection=main
DTSTART:20220612T150000Z
DTEND:20220612T150000Z
DTSTAMP:20240304T133147
TRIGGER:-PT60M
END:VEVENT
END:VCALENDAR
