BEGIN:VCALENDAR
VERSION:2.0
CALSCALE:GREGORIAN
PRODID:UnionActive
BEGIN:VEVENT
UID:12024516@teamsterslocal776.org
SUMMARY:Monthly Membership Meeting
DESCRIPTION:Contact:  \nLink for more information: http://teamsterslocal776.org/index.cfm?zone=/unionactive/view_calendar.cfm&calendarID=12024516&thisdate=02/13/2022&useCalSection=main
LOCATION:Harrisburg Union Hall
URL:http://teamsterslocal776.org/index.cfm?zone=/unionactive/view_calendar.cfm&calendarID=12024516&thisdate=02/13/2022&useCalSection=main
DTSTART:20220213T150000Z
DTEND:20220213T150000Z
DTSTAMP:20240304T133147
TRIGGER:-PT60M
END:VEVENT
END:VCALENDAR
