BEGIN:VCALENDAR
VERSION:2.0
CALSCALE:GREGORIAN
PRODID:UnionActive
BEGIN:VEVENT
UID:12015375@teamsterslocal776.org
SUMMARY:UPS National Grievance Committee Panel 
DESCRIPTION:Contact:  \nLink for more information: http://teamsterslocal776.org/index.cfm?zone=/unionactive/view_calendar.cfm&calendarID=12015375&thisdate=03/07/2022&useCalSection=main
LOCATION:
URL:http://teamsterslocal776.org/index.cfm?zone=/unionactive/view_calendar.cfm&calendarID=12015375&thisdate=03/07/2022&useCalSection=main
DTSTART:20220307T140000Z
DTEND:20220310T220000Z
DTSTAMP:20240304T133148
TRIGGER:-PT60M
END:VEVENT
END:VCALENDAR
