BEGIN:VCALENDAR
VERSION:2.0
CALSCALE:GREGORIAN
PRODID:UnionActive
BEGIN:VEVENT
UID:12012230@teamsterslocal776.org
SUMMARY:Monthly Membership Meeting
DESCRIPTION:Contact:  \nLink for more information: http://teamsterslocal776.org/index.cfm?zone=/unionactive/view_calendar.cfm&calendarID=12012230&thisdate=01/09/2022&useCalSection=main
LOCATION:Harrisburg Union Hall
URL:http://teamsterslocal776.org/index.cfm?zone=/unionactive/view_calendar.cfm&calendarID=12012230&thisdate=01/09/2022&useCalSection=main
DTSTART:20220109T150000Z
DTEND:20220109T150000Z
DTSTAMP:20240304T133133
TRIGGER:-PT60M
END:VEVENT
END:VCALENDAR
