BEGIN:VCALENDAR
VERSION:2.0
CALSCALE:GREGORIAN
PRODID:UnionActive
BEGIN:VEVENT
UID:12004079@teamsterslocal776.org
SUMMARY:UPS CPAPGC grievance panel
DESCRIPTION:Contact:  \nLink for more information: http://teamsterslocal776.org/index.cfm?zone=/unionactive/view_calendar.cfm&calendarID=12004079&thisdate=03/31/2022&useCalSection=main
LOCATION:
URL:http://teamsterslocal776.org/index.cfm?zone=/unionactive/view_calendar.cfm&calendarID=12004079&thisdate=03/31/2022&useCalSection=main
DTSTART:20220331T130000Z
DTEND:20220331T210000Z
DTSTAMP:20240304T133148
TRIGGER:-PT60M
END:VEVENT
END:VCALENDAR
