BEGIN:VCALENDAR
VERSION:2.0
CALSCALE:GREGORIAN
PRODID:UnionActive
BEGIN:VEVENT
UID:11595959@teamsterslocal776.org
SUMMARY:UPSF National Grievance Panel
DESCRIPTION:Contact:  \nLink for more information: http://teamsterslocal776.org/index.cfm?zone=/unionactive/view_calendar.cfm&calendarID=11595959&thisdate=03/02/2021&useCalSection=main
LOCATION:
URL:http://teamsterslocal776.org/index.cfm?zone=/unionactive/view_calendar.cfm&calendarID=11595959&thisdate=03/02/2021&useCalSection=main
DTSTART:20210302T140000Z
DTEND:20210304T220000Z
DTSTAMP:20240304T133710
TRIGGER:-PT60M
END:VEVENT
END:VCALENDAR
