BEGIN:VCALENDAR
VERSION:2.0
CALSCALE:GREGORIAN
PRODID:UnionActive
BEGIN:VEVENT
UID:11595956@teamsterslocal776.org
SUMMARY:UPS CPAPGC Grievance Panel
DESCRIPTION:Contact:  \nLink for more information: http://teamsterslocal776.org/index.cfm?zone=/unionactive/view_calendar.cfm&calendarID=11595956&thisdate=10/07/2021&useCalSection=main
LOCATION:
URL:http://teamsterslocal776.org/index.cfm?zone=/unionactive/view_calendar.cfm&calendarID=11595956&thisdate=10/07/2021&useCalSection=main
DTSTART:20211007T130000Z
DTEND:20211007T210000Z
DTSTAMP:20240304T133711
TRIGGER:-PT60M
END:VEVENT
END:VCALENDAR
