BEGIN:VCALENDAR
VERSION:2.0
CALSCALE:GREGORIAN
PRODID:UnionActive
BEGIN:VEVENT
UID:11595309@teamsterslocal776.org
SUMMARY:Local 776 Golf Tournament
DESCRIPTION:Contact:  \nLink for more information: http://teamsterslocal776.org/index.cfm?zone=/unionactive/view_calendar.cfm&calendarID=11595309&thisdate=08/01/2021&useCalSection=main
LOCATION:Eagles Crossing Golf Course
URL:http://teamsterslocal776.org/index.cfm?zone=/unionactive/view_calendar.cfm&calendarID=11595309&thisdate=08/01/2021&useCalSection=main
DTSTART:20210801T110000Z
DTEND:20210801T200000Z
DTSTAMP:20240304T133726
TRIGGER:-PT60M
END:VEVENT
END:VCALENDAR
