BEGIN:VCALENDAR
VERSION:2.0
CALSCALE:GREGORIAN
PRODID:UnionActive
BEGIN:VEVENT
UID:11595302@teamsterslocal776.org
SUMMARY:Local 776 Family Picnic
DESCRIPTION:Contact:  \nLink for more information: http://teamsterslocal776.org/index.cfm?zone=/unionactive/view_calendar.cfm&calendarID=11595302&thisdate=06/13/2021&useCalSection=main
LOCATION:Knoebels Amusement Park
URL:http://teamsterslocal776.org/index.cfm?zone=/unionactive/view_calendar.cfm&calendarID=11595302&thisdate=06/13/2021&useCalSection=main
DTSTART:20210613T150000Z
DTEND:20210613T220000Z
DTSTAMP:20240304T133711
TRIGGER:-PT60M
END:VEVENT
END:VCALENDAR
