BEGIN:VCALENDAR
VERSION:2.0
CALSCALE:GREGORIAN
PRODID:UnionActive
BEGIN:VEVENT
UID:11595299@teamsterslocal776.org
SUMMARY:Monthly Membership Meeting
DESCRIPTION:Contact:  \nLink for more information: http://teamsterslocal776.org/index.cfm?zone=/unionactive/view_calendar.cfm&calendarID=11595299&thisdate=11/14/2021&useCalSection=main
LOCATION:Harrisburg Union Hall
URL:http://teamsterslocal776.org/index.cfm?zone=/unionactive/view_calendar.cfm&calendarID=11595299&thisdate=11/14/2021&useCalSection=main
DTSTART:20211114T150000Z
DTEND:20211114T170000Z
DTSTAMP:20240304T133713
TRIGGER:-PT60M
END:VEVENT
END:VCALENDAR
