BEGIN:VCALENDAR
VERSION:2.0
CALSCALE:GREGORIAN
PRODID:UnionActive
BEGIN:VEVENT
UID:11582074@teamsterslocal776.org
SUMMARY:Stewards Meeting
DESCRIPTION:Contact:  \nLink for more information: http://teamsterslocal776.org/index.cfm?zone=/unionactive/view_calendar.cfm&calendarID=11582074&thisdate=01/09/2021&useCalSection=main
LOCATION:Harrisburg Union Hall
URL:http://teamsterslocal776.org/index.cfm?zone=/unionactive/view_calendar.cfm&calendarID=11582074&thisdate=01/09/2021&useCalSection=main
DTSTART:20210109T150000Z
DTEND:20210109T170000Z
DTSTAMP:20240304T133725
TRIGGER:-PT60M
END:VEVENT
END:VCALENDAR
